BEGIN:VCALENDAR
VERSION:2.0
PRODID:-//Battle of the Drums - ECPv6.15.20//NONSGML v1.0//EN
CALSCALE:GREGORIAN
METHOD:PUBLISH
X-WR-CALNAME:Battle of the Drums
X-ORIGINAL-URL:https://battleofthedrums.bz
X-WR-CALDESC:Events for Battle of the Drums
REFRESH-INTERVAL;VALUE=DURATION:PT1H
X-Robots-Tag:noindex
X-PUBLISHED-TTL:PT1H
BEGIN:VTIMEZONE
TZID:UTC
BEGIN:STANDARD
TZOFFSETFROM:+0000
TZOFFSETTO:+0000
TZNAME:UTC
DTSTART:20240101T000000
END:STANDARD
END:VTIMEZONE
BEGIN:VEVENT
DTSTART;TZID=UTC:20251031T090000
DTEND;TZID=UTC:20251031T143000
DTSTAMP:20260424T055137
CREATED:20251009T024556Z
LAST-MODIFIED:20251009T104532Z
UID:24684-1761901200-1761921000@battleofthedrums.bz
SUMMARY:13th Annual High School Battle of the Drums
DESCRIPTION:13th annual high school battle of the drums is the premier student showcase for Garifuna performance in Belize. The event brings together 8–10 secondary-school ensembles from across the country—Belize District\, Toledo District\, and Stann Creek District—for a high-energy contest that celebrates precision drumming\, layered vocals\, and choreography grounded in tradition. It’s a morning of school pride\, tight arrangements\, and respectful competition that develops the next generation of cultural leaders. \n\nWhat it’s about\nThis student edition mirrors the spirit of the senior Battle of the Drums while focusing on education and growth. Teams field compact ensembles of drummers\, singers\, and dancers to deliver set pieces that demonstrate timekeeping\, call-and-response\, blend\, and coordinated movement. Beyond trophies\, the goal is mastery: students learn discipline\, teamwork\, and cultural fluency through months of rehearsal that culminate on this stage. \n\nTeams & format\nExpect diverse interpretations of classic forms. Groups typically feature garawoun\, segunda\, and primera drums alongside vocals and choreographed dance lines. Schools present a short\, polished routine designed for impact—tight transitions\, authentic styling\, and purposeful staging. Cheering sections fuel the atmosphere\, but the emphasis remains on clean execution and cultural integrity. \n\nJudging & criteria\n \nA panel of adjudicators scores each ensemble across clear criteria: \nMusicality & Timing: accurate pulse\, interlocking drum parts\, dynamic control. \nVocal Performance: pitch\, blend\, projection\, and confident call-and-response. \nDance & Choreography: posture\, footwork\, synchronization\, formations\, and alignment with drum patterns. \nAuthenticity & Presentation: respect for Garifuna forms\, attire\, and cultural cues. \nStagecraft & Overall Impact: entrance\, transitions\, audience connection\, and finish. \nJudges use standardized rubrics to keep scoring transparent and consistent. Ties are resolved through overall impact and adherence to cultural form. \n\nWhat to expect as a spectator\nYou’ll experience crisp drum lines\, spirited vocals\, and choreography that tells a story. Expect school colors\, creative banners\, and a crowd that brings real energy—while honoring performance etiquette. Applause and cheers are encouraged between segments; during performances\, maintain a clear sightline for judges and performers. \n\nWhy it matters\nThe 13th annual high school battle of the drums is more than a contest—it’s a training ground. Students who excel here feed school ensembles\, community groups\, and eventually the senior Battle of the Drums stage. The event strengthens cultural continuity by turning rehearsal into confidence\, and confidence into leadership
URL:https://battleofthedrums.bz/event/13th-annual-high-school-battle-of-the-drums/
LOCATION:Belize Civic Center\, Central American Boulevard\, Belize City\, Belize District\, Belize
CATEGORIES:Battle of the Drums,Garifuna Event
ATTACH;FMTTYPE=image/png:https://battleofthedrums.bz/wp-content/uploads/2025/10/13th-Annual-High-School-Battle-of-the-Drums-.png
ORGANIZER;CN="Battle of the Drums Secretariat":MAILTO:info@battleofthedrums.bz
END:VEVENT
END:VCALENDAR