BEGIN:VCALENDAR
VERSION:2.0
PRODID:-//Battle of the Drums - ECPv6.15.20//NONSGML v1.0//EN
CALSCALE:GREGORIAN
METHOD:PUBLISH
X-WR-CALNAME:Battle of the Drums
X-ORIGINAL-URL:https://battleofthedrums.bz
X-WR-CALDESC:Events for Battle of the Drums
REFRESH-INTERVAL;VALUE=DURATION:PT1H
X-Robots-Tag:noindex
X-PUBLISHED-TTL:PT1H
BEGIN:VTIMEZONE
TZID:America/Belize
BEGIN:STANDARD
TZOFFSETFROM:-0600
TZOFFSETTO:-0600
TZNAME:CST
DTSTART:20240101T000000
END:STANDARD
END:VTIMEZONE
BEGIN:VEVENT
DTSTART;TZID=America/Belize:20251114T190000
DTEND;TZID=America/Belize:20251114T190000
DTSTAMP:20260425T061901
CREATED:20251020T173157Z
LAST-MODIFIED:20251020T174705Z
UID:25450-1763146800-1763146800@battleofthedrums.bz
SUMMARY:2025 Battle of the Drums Food & Fete
DESCRIPTION:The 2025 Battle of the Drums Food & Fete is a formal evening that celebrates Garifuna taste\, music\, and achievement. Guests take their seats for a three-course dinner—appetizer\, main course\, and dessert—while live Garifuna music sets the mood. Midway through the program\, we present the Achievement Awards to honor leaders and partners who strengthen culture. Finally\, we invite everyone to close the night with music and dance. There are no vendors at this event. \nWhat to Expect\nFirst\, our hosts welcome you and guide you to your table.Then the kitchen serves the appetizer as musicians open the program.Next\, the main course arrives between featured sets. You’ll hear classic rhythms and contemporary arrangements performed with polish.After that\, we present the Achievement Awards. Short tributes highlight service\, creativity\, and community leadership.Meanwhile\, our team keeps the flow smooth—clear cues\, attentive service\, and an easy pace.Finally\, dessert arrives and the band leads a celebratory finale. Guests join the floor for Garifuna music and dance. \nWhy Food & Fete Matters\nThis event powers our mission. As part of the Self-Sustainability Initiatives\, Food & Fete raises visibility and support for three core efforts: the Garifuna Language Preservation Program\, the Garifuna Drumming\, Singing & Dance Preservation Program\, and the Garifuna Community Support Program. Because of your attendance\, we can plan confidently\, maintain standards\, and deliver dignified programs throughout the year. \nGuest Notes\nPlease arrive on time and follow host cues so service and performances stay in sync. The evening is seated and plated; cash bars or vendors are not part of this format. Accessibility needs? Let us know in advance and we’ll reserve appropriate seating. \nTaste\, tribute\, and tradition—followed by the drumbeat that brings us together.
URL:https://battleofthedrums.bz/event/2025-battle-of-the-drums-food-fete/
LOCATION:PG Sporting Auditorium\, Queen Street\, Punta Gorda Town\, Toledo District\, 00000\, Belize
CATEGORIES:Battle of the Drums,Garifuna Event
ATTACH;FMTTYPE=image/png:https://battleofthedrums.bz/wp-content/uploads/2025/10/Food-fete-Banner-1.png
ORGANIZER;CN="Battle of the Drums Secretariat":MAILTO:info@battleofthedrums.bz
END:VEVENT
BEGIN:VEVENT
DTSTART;TZID=America/Belize:20251115T190000
DTEND;TZID=America/Belize:20251115T230000
DTSTAMP:20260425T061901
CREATED:20250127T004534Z
LAST-MODIFIED:20251012T031316Z
UID:24509-1763233200-1763247600@battleofthedrums.bz
SUMMARY:20th Anniversary Battle of the Drums Competition & Show
DESCRIPTION:The 20th anniversary Battle of the Drums Competition & Show marks two decades of world-class Garifuna performance. As the flagship stage\, the 20th anniversary Battle of the Drums brings elite ensembles to deliver precision drumming\, soaring vocals\, and choreography grounded in tradition—crafted for impact\, authenticity\, and audience connection. \nWhat it’s about\nThis is the night where mastery meets heritage. Ensembles present arranged sets that showcase interlocking drum parts\, dynamic call-and-response\, and tight formations. Expect traditional and contemporary repertoire across Garifuna styles—Hüngü Hüngü\, Paranda\, Gunjei\, Punta\, and Punta Rock—with costuming and stagecraft that respect cultural cues while pushing creative polish. The Competition & Show anchors a festival atmosphere and typically rolls into a live musical celebration that keeps the energy high through the night. \nFormat & performance expectations\nGroups field compact\, disciplined teams of drummers\, singers\, and dancers. Sets emphasize: \nTime & texture: steady pulse\, clean breaks\, and layered drum voices (garawoun\, segunda\, primera).\nVocal power: projection\, blend\, diction\, and responsive leads.\nChoreography: posture\, footwork\, formations\, and narrative movement that lock to the drum line.\nTransitions: crisp entrances and exits\, confident resets\, and pacing that holds the room.\nPresentation: attire\, spacing\, and gestures that honor Garifuna practice. \nAudience energy matters—bring your voice and your colors—yet maintain clear sightlines during performances so adjudicators can score without obstruction. \nHow judging works\nA panel evaluates each ensemble using a transparent rubric: \nMusicianship & Timing – accuracy\, balance among drum parts\, dynamic control.\nVocal Performance – pitch\, blend\, breath support\, clarity in call-and-response.\nDance & Choreography – synchronization\, formations\, storytelling\, alignment with rhythms.\nAuthenticity & Cultural Integrity – respect for form\, repertoire choices\, attire\, and stage customs.\nStagecraft & Overall Impact – entrances\, transitions\, audience connection\, finish\, and artistic cohesion. \nAdjudicators provide scores and concise feedback\, ensuring the competition remains educational for performers and informative for supporters. \nWhy this milestone matters\nTwenty years on\, the Competition & Show remains the proving ground for Garifuna excellence\, developing discipline\, teamwork\, and cultural fluency in performers who often rise from school programs to professional stages. It also strengthens local pride and cultural tourism\, drawing audiences who come to experience the drumbeat that defines Belize’s southern coast. \nWhat you’ll experience\nElite drum lines with precise breaks and dynamic swells\nLayered vocals\, responsive leads\, and crowd-lifting refrains\nChoreography that tells stories through rhythm and motion\nSchool and community sections are cheering with passion and respect\nA celebratory atmosphere that often carries on into the night
URL:https://battleofthedrums.bz/event/battle-of-the-drums-20th-anniversary-competition-show/
LOCATION:PG Sporting Auditorium\, Queen Street\, Punta Gorda Town\, Toledo District\, 00000\, Belize
CATEGORIES:Battle of the Drums,Garifuna Event
ATTACH;FMTTYPE=image/jpeg:https://battleofthedrums.bz/wp-content/uploads/2025/01/BOD-Banner.jpg
ORGANIZER;CN="Battle of the Drums Secretariat":MAILTO:info@battleofthedrums.bz
END:VEVENT
BEGIN:VEVENT
DTSTART;TZID=America/Belize:20260417T180000
DTEND;TZID=America/Belize:20260417T220000
DTSTAMP:20260425T061901
CREATED:20260407T182808Z
LAST-MODIFIED:20260409T020038Z
UID:31456-1776448800-1776463200@battleofthedrums.bz
SUMMARY:Hamalali Wanigu Album Launch & Music Awards 2026
DESCRIPTION:The Hamalali Wanigu Album Launch & Music Awards 2026\, presented by the Battle of the Drums Secretariat\, is set to be one of the most anticipated Garifuna music events in Belize. Hosted at the iconic Bliss Centre for Performing Arts in Belize City\, this national celebration honors the rhythm\, culture\, and legacy of Garifuna music. \nThis special evening marks the official release of the Hamalali Wanigu album\, featuring powerful performances and collaborations from top Garifuna artists. Guests will experience live entertainment backed by Sweet Pain 3.0\, bringing energy and authenticity to the stage. \nBeyond the music\, the event will also host the Garifuna Music Awards\, recognizing legends and contributors who have shaped the sound and cultural movement of Garifuna music both locally and internationally. \nAttendees can also enjoy: \n\nExclusive reveals and announcements\nA curated silent auction experience\nA vibrant atmosphere celebrating Garifuna heritage\n\nWhether you are a fan of traditional drumming\, contemporary Garifuna fusion\, or cultural events in Belize\, this is a must-attend experience. \n\nKey Highlights\n\nLive performances by featured Garifuna artists\nOfficial Hamalali Wanigu album launch\nMusic awards honoring Garifuna legends\nBacked by Sweet Pain 3.0\nExclusive reveals & silent auction\nNational celebration of Garifuna culture
URL:https://battleofthedrums.bz/event/hamalali-wanigu-album-launch-music-awards-2026/
CATEGORIES:Battle of the Drums,Garifuna Event
ATTACH;FMTTYPE=image/jpeg:https://battleofthedrums.bz/wp-content/uploads/2026/04/Hamalali-Wanigu-Album-Launch-Featured-Image.jpg
END:VEVENT
END:VCALENDAR