BEGIN:VCALENDAR
VERSION:2.0
PRODID:-//Battle of the Drums - ECPv6.15.20//NONSGML v1.0//EN
CALSCALE:GREGORIAN
METHOD:PUBLISH
X-ORIGINAL-URL:https://battleofthedrums.bz
X-WR-CALDESC:Events for Battle of the Drums
REFRESH-INTERVAL;VALUE=DURATION:PT1H
X-Robots-Tag:noindex
X-PUBLISHED-TTL:PT1H
BEGIN:VTIMEZONE
TZID:America/New_York
BEGIN:DAYLIGHT
TZOFFSETFROM:-0500
TZOFFSETTO:-0400
TZNAME:EDT
DTSTART:20220313T070000
END:DAYLIGHT
BEGIN:STANDARD
TZOFFSETFROM:-0400
TZOFFSETTO:-0500
TZNAME:EST
DTSTART:20221106T060000
END:STANDARD
BEGIN:DAYLIGHT
TZOFFSETFROM:-0500
TZOFFSETTO:-0400
TZNAME:EDT
DTSTART:20230312T070000
END:DAYLIGHT
BEGIN:STANDARD
TZOFFSETFROM:-0400
TZOFFSETTO:-0500
TZNAME:EST
DTSTART:20231105T060000
END:STANDARD
BEGIN:DAYLIGHT
TZOFFSETFROM:-0500
TZOFFSETTO:-0400
TZNAME:EDT
DTSTART:20240310T070000
END:DAYLIGHT
BEGIN:STANDARD
TZOFFSETFROM:-0400
TZOFFSETTO:-0500
TZNAME:EST
DTSTART:20241103T060000
END:STANDARD
END:VTIMEZONE
BEGIN:VTIMEZONE
TZID:America/Belize
BEGIN:STANDARD
TZOFFSETFROM:-0600
TZOFFSETTO:-0600
TZNAME:CST
DTSTART:20210101T000000
END:STANDARD
END:VTIMEZONE
BEGIN:VTIMEZONE
TZID:UTC
BEGIN:STANDARD
TZOFFSETFROM:+0000
TZOFFSETTO:+0000
TZNAME:UTC
DTSTART:20200101T000000
END:STANDARD
END:VTIMEZONE
BEGIN:VEVENT
DTSTART;TZID=America/New_York:20231112T000000
DTEND;TZID=America/New_York:20231112T060000
DTSTAMP:20260423T162322
CREATED:20230929T225209Z
LAST-MODIFIED:20230929T225209Z
UID:10139-1699747200-1699768800@battleofthedrums.bz
SUMMARY:The Belize Garifuna Music Festival
DESCRIPTION:The Belize Garifuna Musical Festival takes place immediately after the Battle of the Drums Competition and Show and will continue until 6:00 a.m. on the morning of November 12\, 2023. The Belize Garifuna Musical Festival features performances of various genre of Garifuna Music by local and internationally renowned artists. The winners of the Garifuna Song Competition will also be in attendance. The performances will showcase the following music forms: Hüngü Hüngü\, Paranda\, Gunjei\, Punta\, and Punta Rock.
URL:https://battleofthedrums.bz/event/the-belize-garifuna-music-festival/
LOCATION:PG Sporting Auditorium\, Queen Street\, Punta Gorda Town\, Toledo District\, 00000\, Belize
CATEGORIES:Battle of the Drums,Culture,Garifuna Event
END:VEVENT
BEGIN:VEVENT
DTSTART;TZID=America/New_York:20231111T193000
DTEND;TZID=America/New_York:20231111T233000
DTSTAMP:20260423T162322
CREATED:20230929T224942Z
LAST-MODIFIED:20230929T224942Z
UID:10137-1699731000-1699745400@battleofthedrums.bz
SUMMARY:18th Annual Battle of the Drums 2023
DESCRIPTION:The night commences with the 18th Annual Battle of the Drums Competition and Show. This is a Competition and Show that allows groups to compete and display their musical artistry in playing five (5) different categories of Garifuna drumming.  The first Battle of the Drums was held in Punta Gorda Town on November 17\, 2006\, and has been well received by spectators from home and abroad.  This competition and show has become a major local and tourist attraction and a catalyst for significant economic activity in the Punta Gorda Area during the period when it is hosted.  The Battle of the Drums Competition and Show is held every year on the Saturday immediately preceding the 19th day of November. \nThe proceeds from the Battle of the Drums Initiative are strictly used to pursue various Garifuna cultural retrieval projects in Punta Gorda Town and other Garifuna communities as the funds allow.  The cultural retrieval projects include the annual Battle of the Drums summer camps for children and youths\, the Garifuna Language and Drumming in Schools program for primary school-age children\, Annual Primary Schools Garifuna Translation contest\, among others. \n 
URL:https://battleofthedrums.bz/event/18th-annual-battle-of-the-drums-2023/
LOCATION:PG Sporting Auditorium\, Queen Street\, Punta Gorda Town\, Toledo District\, 00000\, Belize
CATEGORIES:Battle of the Drums,Culture,Garifuna Event
ATTACH;FMTTYPE=:
ORGANIZER;CN="Battle of the Drums Secretariat":MAILTO:info@battleofthedrums.bz
END:VEVENT
BEGIN:VEVENT
DTSTART;TZID=America/New_York:20231110T190000
DTEND;TZID=America/New_York:20231111T020000
DTSTAMP:20260423T162322
CREATED:20230929T224625Z
LAST-MODIFIED:20230929T224625Z
UID:10135-1699642800-1699668000@battleofthedrums.bz
SUMMARY:Battle of the Drums Food and Fete and Garifuna Song Competition Awards and Concert
DESCRIPTION:This is the term used to describe the opening night of the Battle of the Drums weekend festivities. It will be held on Friday\, November 10\, 2023 from 7:00 p.m. to 2:00 a.m. \nThis event brings people together from all walks of life to socialize\, network and enjoy an evening of good food and great Garifuna music.  It showcases Garifuna cuisine fused with contemporary cooking styles\, dishes and menus prepared by executive chefs from luxury resorts located in Southern Belize as well as local cooks. \nAlso\, for the first time ever\, the Belize Garifuna Song Competition Awards and Concert will be incorporated into the events for this night. Awards will be presented to the 12 semi-finalists of the Garifuna Song Competition who will present their songs to the audience. From the 12 semi-finalists\, 5 will be chosen to be awarded as follows: \n\nSong of the Year Award\nBest multi-genre song Award – Amateur\nBest single genre song Award – Amateur\nBest multi-genre song Award – Professional\nBest single genre song Award – Professional\n\n 
URL:https://battleofthedrums.bz/event/battle-of-the-drums-food-and-fete-and-garifuna-song-competition-awards-and-concert/
LOCATION:PG Sporting Auditorium\, Queen Street\, Punta Gorda Town\, Toledo District\, 00000\, Belize
CATEGORIES:Battle of the Drums,Culture,Garifuna Event
ORGANIZER;CN="Battle of the Drums Secretariat":MAILTO:info@battleofthedrums.bz
END:VEVENT
BEGIN:VEVENT
DTSTART;TZID=America/New_York:20231109T190000
DTEND;TZID=America/New_York:20231109T213000
DTSTAMP:20260423T162322
CREATED:20231020T043912Z
LAST-MODIFIED:20231020T043912Z
UID:10829-1699556400-1699565400@battleofthedrums.bz
SUMMARY:The Garifuna Experience Tour - Peini
DESCRIPTION:Garifunarobics is your Garifuna style workout where international aerobics instructor\, Arnol Guity-Martinez uses Garifuna music to teach aerobics as well as health and wellness. Each session is an hour and a half. Apart from Punta Gorda Town\, the tour will include visits to Belize City\, Seine Bight\, San Pedro\, Belmopan\, San Ignacio\, Dangriga\, Hopkins.
URL:https://battleofthedrums.bz/event/the-garifuna-experience-tour-peini/
LOCATION:PG Sporting Auditorium\, Queen Street\, Punta Gorda Town\, Toledo District\, 00000\, Belize
CATEGORIES:Community Activity,Culture,Health & Wellness
ATTACH;FMTTYPE=:
ORGANIZER;CN="Battle of the Drums Secretariat":MAILTO:info@battleofthedrums.bz
END:VEVENT
BEGIN:VEVENT
DTSTART;TZID=America/New_York:20231108T190000
DTEND;TZID=America/New_York:20231108T213000
DTSTAMP:20260423T162322
CREATED:20231020T034726Z
LAST-MODIFIED:20231020T034726Z
UID:10822-1699470000-1699479000@battleofthedrums.bz
SUMMARY:The Garifuna Experience Tour - San Ignacio
DESCRIPTION:Garifunarobics is your Garifuna style workout where international aerobics instructor\, Arnol Guity-Martinez uses Garifuna music to teach aerobics as well as health and wellness. Each session is an hour and a half. Apart from Punta Gorda Town\, the tour will include visits to Belize City\, Seine Bight\, San Pedro\, Belmopan\, San Ignacio\, Dangriga\, Hopkins.
URL:https://battleofthedrums.bz/event/the-garifuna-experience-tour-san-ignacio/
LOCATION:Galvez Stadium\, George Price Highway\, San Ignacio\, Cayo District\, Belize
CATEGORIES:Community Activity,Culture,Health & Wellness
ATTACH;FMTTYPE=:
ORGANIZER;CN="Battle of the Drums Secretariat":MAILTO:info@battleofthedrums.bz
END:VEVENT
BEGIN:VEVENT
DTSTART;TZID=America/New_York:20231105T080000
DTEND;TZID=America/New_York:20231105T103000
DTSTAMP:20260423T162322
CREATED:20230929T223620Z
LAST-MODIFIED:20230929T223620Z
UID:10128-1699171200-1699180200@battleofthedrums.bz
SUMMARY:Battle of the Drums 18th Anniversary Garifuna Mass and Service Day
DESCRIPTION:This day will commence at 8:00 a.m. with a Garifuna Mass of Thanksgiving at the St. Peter Claver Church and will be followed by activities which include providing community service to a deserving sector of our Punta Gorda Garifuna community.
URL:https://battleofthedrums.bz/event/battle-of-the-drums-18th-anniversary-garifuna-mass-and-service-day/
LOCATION:St. Peter Claver Catholic Church\, 95 Front Street\, Punta Gorda Town\, Toledo District\, 00000\, Belize
CATEGORIES:Community Activity,Culture
ORGANIZER;CN="Battle of the Drums Secretariat":MAILTO:info@battleofthedrums.bz
END:VEVENT
BEGIN:VEVENT
DTSTART;TZID=America/Belize:20221112T233000
DTEND;TZID=America/Belize:20221113T060000
DTSTAMP:20260423T162322
CREATED:20221003T223736Z
LAST-MODIFIED:20221003T223736Z
UID:6460-1668295800-1668319200@battleofthedrums.bz
SUMMARY:Belize Garifuna Music Festival
DESCRIPTION:The Belize Garifuna Musical Festival takes place immediately after the Battle of the Drums and will continue until 6:00 a.m. on the morning of November 13\, 2022. The Belize Garifuna Musical Festival will feature performances of various genres of Garifuna Music by local and internationally renowned artists. The winners of the Garifuna Song Competition will also be in attendance. The performances will showcase the following music forms: Hungu Hungu\, Paranda\, Gunjei\, Punta\, and Punta Rock.
URL:https://battleofthedrums.bz/event/belize-garifuna-music-festival/
LOCATION:PG Sporting Auditorium\, Queen Street\, Punta Gorda Town\, Toledo District\, 00000\, Belize
CATEGORIES:Battle of the Drums,Culture,Garifuna Event
ATTACH;FMTTYPE=:
ORGANIZER;CN="Battle of the Drums Secretariat":MAILTO:info@battleofthedrums.bz
END:VEVENT
BEGIN:VEVENT
DTSTART;TZID=America/Belize:20221112T190000
DTEND;TZID=America/Belize:20221112T233000
DTSTAMP:20260423T162322
CREATED:20220923T234530Z
LAST-MODIFIED:20220923T234530Z
UID:5252-1668279600-1668295800@battleofthedrums.bz
SUMMARY:Battle of the Drums Competition & Show
DESCRIPTION:The 17th Annual Battle of the Drums Competition and Show sees groups from all over Belize\, Guatemala\, and Honduras compete to display their musical artistry in playing five categories of Garifuna drumming. This year’s show is going to be bigger and better.
URL:https://battleofthedrums.bz/event/battle-of-the-drums-competition-show/
LOCATION:PG Sporting Auditorium\, Queen Street\, Punta Gorda Town\, Toledo District\, 00000\, Belize
CATEGORIES:Culture,Garifuna Event
ATTACH;FMTTYPE=:
ORGANIZER;CN="Battle of the Drums Secretariat":MAILTO:info@battleofthedrums.bz
END:VEVENT
BEGIN:VEVENT
DTSTART;TZID=America/Belize:20221111T200000
DTEND;TZID=America/Belize:20221112T030000
DTSTAMP:20260423T162322
CREATED:20221004T210053Z
LAST-MODIFIED:20221004T210053Z
UID:6640-1668196800-1668222000@battleofthedrums.bz
SUMMARY:Battle of the Drums Food & Fete
DESCRIPTION:This is the term used to describe the opening night of the Battle of the Drums weekend festivities. It will be held on Friday\, November 11\, 2022\, from 8:00 p.m. to 3:00 a.m. This event brings people from all walks of life to socialize\, network\, and enjoy an evening of good food and great Garifuna music. It showcases Garifuna cuisine fused with contemporary cooking styles\, dishes\, and menus prepared by executive chefs from luxury resorts located in Southern Belize and local cooks. It also features local and national Garifuna musical performers performing great Paranda music. Additionally\, this event features the following: \n(a) Awards to various Garifuna individuals\n(b) Garifuna fashion show\n(c) Silent auction of prized Garifuna art and items.
URL:https://battleofthedrums.bz/event/battle-of-the-drums-food-fete/
LOCATION:PG Sporting Auditorium\, Queen Street\, Punta Gorda Town\, Toledo District\, 00000\, Belize
CATEGORIES:Charity,Culture,Garifuna Event
ATTACH;FMTTYPE=:
ORGANIZER;CN="Battle of the Drums Secretariat":MAILTO:info@battleofthedrums.bz
END:VEVENT
BEGIN:VEVENT
DTSTART;VALUE=DATE:20221103
DTEND;VALUE=DATE:20221111
DTSTAMP:20260423T162322
CREATED:20221002T081921Z
LAST-MODIFIED:20221002T081921Z
UID:6445-1667433600-1668124799@battleofthedrums.bz
SUMMARY:Belize Garifunarobics Tour
DESCRIPTION:This novel and captivating experience will travel through our beautiful and diverse country of Belize all while promoting a healthier lifestyle\, and creating a fun space\, while also educating and preserving the Garifuna Culture. The event will include a combination of a Disc Jockey with live Garifuna Drumming accompanied by a team of singers (Gayusa) that will harmoniously follow the instructions and the rhythm of the instructor as he continuously and joyfully engages the participants. \nThe total duration of the session is 120 minutes. Outside of the 120 minutes\, about 30 minutes will be allocated for meet & greet\, warm-up\, and also to engage the attendees. The tour will make 8 stops\, commencing in Orange Walk followed by\, Belize City\, Caye Caulker\, Belmopan\, San Ignacio\, Dangriga\, Hopkins\, and Punta Gorda. \nOur goal is to make this novel and captivating experience affordable so that a great number of our Belizean people can be a part of this captivating experience. Therefore tickets will be sold for this event at an affordable rate of $25 per individual. \nCULTURE\, HEALTH & WELLNESS
URL:https://battleofthedrums.bz/event/belize-garifunarobics-tour/
LOCATION:Toledo District
CATEGORIES:Culture,Health & Wellness
ATTACH;FMTTYPE=:
ORGANIZER;CN="Battle of the Drums Secretariat":MAILTO:info@battleofthedrums.bz
END:VEVENT
BEGIN:VEVENT
DTSTART;TZID=America/Belize:20221028T200000
DTEND;TZID=America/Belize:20221029T020000
DTSTAMP:20260423T162322
CREATED:20220924T015201Z
LAST-MODIFIED:20220924T015201Z
UID:5223-1666987200-1667008800@battleofthedrums.bz
SUMMARY:The Belize Garifuna Song Competition
DESCRIPTION:Showcase for the 12 finalists of the Belize Garifuna Song Competition followed by a concert featuring Lloyd\, Reckless\, Chico & Sweet Pain. New music mixed in with some classics.
URL:https://battleofthedrums.bz/event/the-belize-garifuna-song-competition/
LOCATION:Bird’s Isle\, 90 Albert Street\, Belize City\, Belize District\, 00000\, Belize
CATEGORIES:Culture,Garifuna Event,Garifuna Song Competition
ATTACH;FMTTYPE=:
ORGANIZER;CN="Battle of the Drums Secretariat":MAILTO:info@battleofthedrums.bz
END:VEVENT
BEGIN:VEVENT
DTSTART;TZID=UTC:20211119T090000
DTEND;TZID=UTC:20211119T103000
DTSTAMP:20260423T162322
CREATED:20190604T085807Z
LAST-MODIFIED:20190604T085807Z
UID:1171-1637312400-1637317800@battleofthedrums.bz
SUMMARY:Virtual Yurumein & Garifuna Mass
DESCRIPTION:Yurumein – This refers to the Re-enactment Ceremony.  The virtual presentation of the Yurumein commences at 8:00 a.m. with a dramatization that depicts the first arrival of the Garinagu to the shores of what was then the British Settlement\, now known as Belize.  The Re-enactment Ceremony is followed by a parade through the principal streets of Punta Gorda Town and thereafter a mass of thanksgiving is held at the St. Peter Claver Church.
URL:https://battleofthedrums.bz/event/dinner-party/
LOCATION:St. Peter Claver Catholic Church\, 95 Front Street\, Punta Gorda Town\, Toledo District\, 00000\, Belize
CATEGORIES:Community Activity,Culture,Garifuna Event
ATTACH;FMTTYPE=image/jpeg:https://battleofthedrums.bz/wp-content/uploads/2019/06/Event-Feature-Image-6-1.jpg
ORGANIZER;CN="Battle of the Drums Secretariat":MAILTO:info@battleofthedrums.bz
END:VEVENT
BEGIN:VEVENT
DTSTART;TZID=UTC:20211113T190000
DTEND;TZID=UTC:20211113T233000
DTSTAMP:20260423T162322
CREATED:20190604T091226Z
LAST-MODIFIED:20190604T091226Z
UID:1173-1636830000-1636846200@battleofthedrums.bz
SUMMARY:Battle of the Drums Showcase and Belize Garifuna Musical Festival (Virtual)
DESCRIPTION:The night commences with the 16th Annual Virtual Battle of the Drums Showcase. This Showcase allows groups to display their musical artistry in playing five (5) different categories of Garifuna drumming. \nThe Virtual Belize Garifuna Musical Festival takes place immediately after the Virtual Battle of the Drums. The Virtual Belize Garifuna Musical Festival will feature performances of various genres of Garifuna Music by local and internationally renowned artists. The performances will showcase the following music forms: Hungu Hungu\, Paranda\, Gunjei\, Punta\, and Punta Rock.
URL:https://battleofthedrums.bz/event/battle-of-the-drums/
LOCATION:Virtual Space\, Virtual Space\, Punta gorda Town\, Toledo District\, 00000\, Belize
CATEGORIES:Culture,Garifuna Event
ATTACH;FMTTYPE=image/jpeg:https://battleofthedrums.bz/wp-content/uploads/2019/06/Event-Feature-Image-5-1.jpg
ORGANIZER;CN="Battle of the Drums Secretariat":MAILTO:info@battleofthedrums.bz
END:VEVENT
BEGIN:VEVENT
DTSTART;TZID=UTC:20211107T070000
DTEND;TZID=UTC:20211107T083000
DTSTAMP:20260423T162322
CREATED:20190604T090827Z
LAST-MODIFIED:20190604T090827Z
UID:1172-1636268400-1636273800@battleofthedrums.bz
SUMMARY:Battle of the Drums 16th Anniversary Garifuna Mass and Service Day
DESCRIPTION:This day will commence at 7:00 a.m. with a Garifuna Mass of Thanksgiving at the St. Peter Claver Church and will be followed by activities that include providing community service to a deserving sector of our Punta Gorda community
URL:https://battleofthedrums.bz/event/garifuna-mass/
LOCATION:St. Peter Claver Catholic Church\, 95 Front Street\, Punta Gorda Town\, Toledo District\, 00000\, Belize
CATEGORIES:Community Activity,Culture,Garifuna Event
ATTACH;FMTTYPE=image/jpeg:https://battleofthedrums.bz/wp-content/uploads/2019/06/Event-Feature-Image-4-1.jpg
ORGANIZER;CN="Battle of the Drums Secretariat":MAILTO:info@battleofthedrums.bz
END:VEVENT
END:VCALENDAR