BEGIN:VCALENDAR
VERSION:2.0
PRODID:-//Battle of the Drums - ECPv6.15.20//NONSGML v1.0//EN
CALSCALE:GREGORIAN
METHOD:PUBLISH
X-ORIGINAL-URL:https://battleofthedrums.bz
X-WR-CALDESC:Events for Battle of the Drums
REFRESH-INTERVAL;VALUE=DURATION:PT1H
X-Robots-Tag:noindex
X-PUBLISHED-TTL:PT1H
BEGIN:VTIMEZONE
TZID:America/Belize
BEGIN:STANDARD
TZOFFSETFROM:-0600
TZOFFSETTO:-0600
TZNAME:CST
DTSTART:20230101T000000
END:STANDARD
END:VTIMEZONE
BEGIN:VEVENT
DTSTART;TZID=America/Belize:20241116T080000
DTEND;TZID=America/Belize:20241130T233000
DTSTAMP:20260425T205359
CREATED:20240604T174852Z
LAST-MODIFIED:20240604T174852Z
UID:14113-1731744000-1733009400@battleofthedrums.bz
SUMMARY:19th Annual BATTLE OF THE DRUMS 2024
DESCRIPTION:The night commences with the 19th Annual Battle of the Drums Competition and Show. This is a Competition and Show that allows groups to compete and display their musical artistry in playing five (5) different categories of Garifuna drumming.  The first Battle of the Drums was held in Punta Gorda Town on November 17\, 2006\, and has been well received by spectators from home and abroad.  This competition and show has become a major local and tourist attraction and a catalyst for significant economic activity in the Punta Gorda Area during the period when it is hosted.  The Battle of the Drums Competition and Show is held every year on the Saturday immediately preceding the 19th day of November. \nThe proceeds from the Battle of the Drums Initiative are strictly used to pursue various Garifuna cultural retrieval projects in Punta Gorda Town and other Garifuna communities as the funds allow.  The cultural retrieval projects include the annual Battle of the Drums summer camps for children and youths\, the Garifuna Language and Drumming in Schools program for primary school-age children\, the Annual Primary Schools Garifuna Translation contest\, among others.
URL:https://battleofthedrums.bz/event/19th-annual-battle-of-the-drums-2024/
LOCATION:PG Sporting Auditorium\, Queen Street\, Punta Gorda Town\, Toledo District\, 00000\, Belize
CATEGORIES:Battle of the Drums,Culture,Garifuna Event
ATTACH;FMTTYPE=:
ORGANIZER;CN="Battle of the Drums Secretariat":MAILTO:info@battleofthedrums.bz
END:VEVENT
END:VCALENDAR